Workbook

Sheet داده ها
A1: نام مراقبت | B1: کد | C1: سه ماهه اول | D1: سه ماهه دوم | E1: سه ماهه سوم | F1: سه ماهه چهارم
A2: ارزيابي رشد کودک کمتر از 5 سال (45-30 روزگي) (غيرپزشک) | B2: 24058 | H2: پوشش مراقبت کودک غیر پزشک
A3: ارزيابي رشد کودک کمتر از 5 سال (2 ماهگي) (غيرپزشک) | B3: 24059
A4: ارزيابي رشد کودک کمتر از 5 سال (4 ماهگي) (غيرپزشک) | B4: 24060
A5: ارزيابي رشد کودک کمتر از 5 سال (6 ماهگي) (غيرپزشک) | B5: 24061
A6: ارزيابي رشد کودک کمتر از 5 سال (7 ماهگي) (غيرپزشک) | B6: 24062
A7: ارزيابي رشد کودک کمتر از 5 سال (9 ماهگي) (غيرپزشک) | B7: 24063
A8: ارزيابي رشد کودک کمتر از 5 سال (1 سالگي) (غيرپزشک) | B8: 24064
A9: ارزيابي رشد کودک کمتر از 5 سال (15 ماهگي) (غيرپزشک) | B9: 24065 | J9: ویژه شاخص سالانه
A10: ارزيابي رشد کودک کمتر از 5 سال (18 ماهگي) (غيرپزشک) | B10: 24066 | J10: مجموع مراقبت های کودک سالم | K10: =SUM(C16+D16+E16+F16) -> 0
A11: ارزيابي رشد کودک کمتر از 5 سال (2 سالگي) (غيرپزشک) | B11: 24067
A12: ارزيابي رشد کودک کمتر از 5 سال (2.5 سالگي) (غيرپزشک) | B12: 24068 | J12: ویژه شاخص سالانه
A13: ارزيابي رشد کودک کمتر از 5 سال (3 سالگي) (غيرپزشک) | B13: 24069 | J13: تعداد متولدین 1فروردین 5 سال قبل تا 30 بهمن همان سال
A14: ارزيابي رشد کودک کمتر از 5 سال (4 سالگي) (غيرپزشک) | B14: 24070
A15: ارزيابي رشد کودک کمتر از 5 سال (5 سالگي) (غيرپزشک) | B15: 24071
B16: جمع | C16: =SUM(C2:C15) -> 0 | D16: =SUM(D2:D15) -> 0 | E16: =SUM(E2:E15) -> 0 | F16: =SUM(F2:F15) -> 0 | G16: صورت/2.8
B17: جمعیت 1 تا 60 ماهه | G17: مخرج/4
B18: تاریخ تولد | C18: 1فروردین 5سال قبل تا 31 اردیبهشت همان سال | D18: 1تیر 5سال قبل تا 31 مرداد همان سال | E18: 1مهر 5سال قبل تا 30 آبان همان سال | F18: 1دی 5سال قبل تا 30 بهمن همان سال
B19: توضیحات
A21: نام مراقبت | B21: کد | C21: سه ماهه اول | D21: سه ماهه دوم | E21: سه ماهه سوم | F21: سه ماهه چهارم | H21: پوشش مراقبت کودک پزشک | J21: ویژه شاخص سالانه
A22: ارزیابی کودک در معاینه (ویزیت 6ماهگی- پزشك)- پایلوت | B22: 24106 | J22: مجموع جمعیت 6 ماهه ها | K22: =SUM(C28+D28+E28+F28) -> 0
A23: ارزیابی کودک در معاینه (ویزیت 12 ماهگی- پزشك)- پایلوت | B23: 24107 | J23: مجموع جمعیت 12 ماهه ها | K23: =SUM(C30+D30+E30+F30) -> 0
A24: ارزیابی کودک در معاینه (ویزیت 2 سالگی- پزشك)- پایلوت | B24: 24108 | J24: مجموع جمعیت 24 ماهه ها | K24: =SUM(C32+D32+E32+F32) -> 0
A25: ارزیابی کودک در معاینه (ویزیت 3 سالگی- پزشك)- پایلوت | B25: 24109 | J25: مجموع جمعیت 36 ماهه ها | K25: =SUM(C34+D34+E34+F34) -> 0
A26: ارزیابی کودک در معاینه (ویزیت 5 سالگی- پزشك)- پایلوت | B26: 24110 | J26: مجموع جمعیت 60 ماهه ها | K26: =SUM(C36+D36+E36+F36) -> 0
B27: جمع | C27: =SUM(C22:C26) -> 0 | D27: =SUM(D22:D26) -> 0 | E27: =SUM(E22:E26) -> 0 | F27: =SUM(F22:F26) -> 0 | G27: صورت | J27: جمع | K27: =SUM(K22:K26) -> 0
B28: جمعیت 6 ماهه
C29: 1مهر تا 30آذر سال قبل | D29: 1دی تا 30 اسفند سال قبل | E29: 1فروردین تا 31 خرداد همان سال | F29: 1تیر تا 31شهریور همان سال
B30: جمعیت یک ساله
C31: 1فروردین تا 31 خرداد سال قبل | D31: 1تیر تا 31 شهریور سال قبل | E31: 1مهر تا 30 آذر سال قبل | F31: 1دی تا 30 اسفند سال قبل
B32: جمعیت دو ساله
C33: 1فروردین تا 31 خرداد دو سال قبل | D33: 1تیر تا 31 شهریور دو سال قبل | E33: 1مهر تا 30 آذر دو سال قبل | F33: 1دی تا 30 اسفند دو سال قبل | J33: ویژه شاخص سالانه
B34: جمعیت سه ساله | J34: مجموع ویزیت 6 ماهه ها | K34: =SUM(C22:F22) -> 0
C35: 1فروردین تا 31 خرداد سه سال قبل | D35: 1تیر تا 31 شهریور سه سال قبل | E35: 1مهر تا 30 آذر سه سال قبل | F35: 1دی تا 30 اسفند سه سال قبل | J35: مجموع ویزیت 12 ماهه ها | K35: =SUM(C23:F23) -> 0
B36: جمعیت پنج ساله | J36: مجموع ویزیت 24 ماهه ها | K36: =SUM(C24:F24) -> 0
C37: 1فروردین تا 31 خرداد پنج سال قبل | D37: 1تیر تا 31 شهریور پنج سال قبل | E37: 1مهر تا 30 آذر پنج سال قبل | F37: 1دی تا 30 اسفند پنج سال قبل | J37: مجموع ویزیت 36 ماهه ها | K37: =SUM(C25:F25) -> 0
B38: جمع | C38: =SUM(C28:C36) -> 0 | D38: =SUM(D28:D36) -> 0 | E38: =SUM(E28:E36) -> 0 | F38: =SUM(F28:F36) -> 0 | G38: مخرج | J38: مجموع ویزیت 60 ماهه ها | K38: =SUM(C26:F26) -> 0
B39: توضیحات | J39: جمع ویزیت | K39: =SUM(K34:K38) -> 0
A41: نام مراقبت | B41: کد | C41: سه ماهه اول | D41: سه ماهه دوم | E41: سه ماهه سوم | F41: سه ماهه چهارم | G41: صورت | H41: پوشش ASQ | J41: ویژه شاخص سالانه
A42: غربالگري تکامل 6ماهگي با استفاده از پرسشنامه ASQ | B42: 7890 | J42: مجموع ASQ 6 ماهگی | K42: =SUM(C42+D42+E42+F42) -> 0
A43: غربالگري تکامل 1 سالگي با استفاده از پرسشنامه ASQ | B43: 7247 | J43: مجموع ASQ 12 ماهگی | K43: =SUM(C43+D43+E43+F43) -> 0
A44: غربالگري تکامل 2 سالگي با استفاده از پرسشنامه ASQ | B44: 7889 | J44: مجموع ASQ 24 ماهگی | K44: =SUM(C44+D44+E44+F44) -> 0
A45: غربالگري تکامل 3 سالگي با استفاده از پرسشنامه ASQ | B45: 7888 | J45: مجموع ASQ 36 ماهگی | K45: =SUM(C45+D45+E45+F45) -> 0
A46: غربالگري تکامل 60 ماهگي با استفاده از پرسشنامه ASQ | B46: 7887 | J46: مجموع ASQ 60 ماهگی | K46: =SUM(C46+D46+E46+F46) -> 0
B47: جمع | C47: =SUM(C42:C46) -> 0 | D47: =SUM(D42:D46) -> 0 | E47: =SUM(E42:E46) -> 0 | F47: =SUM(F42:F46) -> 0 | J47: جمع | K47: =SUM(K42:K46) -> 0
B48: جمعیت 6 ماهه | C48: =SUM(C28) -> 0 | D48: =SUM(D28) -> 0 | E48: =SUM(E28) -> 0 | F48: =SUM(F28) -> 0 | G48: مخرج | J48: ویژه شاخص سالانه
C49: 1مهر تا 30آذر سال قبل | D49: 1دی تا 30 اسفند سال قبل | E49: 1فروردین تا 31 خرداد همان سال | F49: 1تیر تا 31شهریور همان سال | J49: مجموع جمعیت 6 ماهه ها | K49: =SUM(C48+D48+E48+F48) -> 0
B50: جمعیت یک ساله | C50: =SUM(C30) -> 0 | D50: =SUM(D30) -> 0 | E50: =SUM(E30) -> 0 | F50: =SUM(F30) -> 0 | J50: مجموع جمعیت 12 ماهه ها | K50: =SUM(C50+D50+E50+F50) -> 0
C51: 1فروردین تا 31 خرداد سال قبل | D51: 1تیر تا 31 شهریور سال قبل | E51: 1مهر تا 30 آذر سال قبل | F51: 1دی تا 30 اسفند سال قبل | J51: مجموع جمعیت 24 ماهه ها | K51: =SUM(C52+D52+E52+F52) -> 0
B52: جمعیت دو ساله | C52: =SUM(C32) -> 0 | D52: =SUM(D32) -> 0 | E52: =SUM(E32) -> 0 | F52: =SUM(F32) -> 0 | J52: مجموع جمعیت 36 ماهه ها | K52: =SUM(C54+D54+E54+F54) -> 0
C53: 1فروردین تا 31 خرداد دو سال قبل | D53: 1تیر تا 31 شهریور دو سال قبل | E53: 1مهر تا 30 آذر دو سال قبل | F53: 1دی تا 30 اسفند دو سال قبل | J53: مجموع جمعیت 60 ماهه ها | K53: =SUM(C56+D56+E56+F56) -> 0
B54: جمعیت سه ساله | C54: =SUM(C34) -> 0 | D54: =SUM(D34) -> 0 | E54: =SUM(E34) -> 0 | F54: =SUM(F34) -> 0 | J54: جمع | K54: =SUM(K49:K53) -> 0
C55: 1فروردین تا 31 خرداد سه سال قبل | D55: 1تیر تا 31 شهریور سه سال قبل | E55: 1مهر تا 30 آذر سه سال قبل | F55: 1دی تا 30 اسفند سه سال قبل
B56: جمعیت پنج ساله | C56: =SUM(C36) -> 0 | D56: =SUM(D36) -> 0 | E56: =SUM(E36) -> 0 | F56: =SUM(F36) -> 0
C57: 1فروردین تا 31 خرداد پنج سال قبل | D57: 1تیر تا 31 شهریور پنج سال قبل | E57: 1مهر تا 30 آذر پنج سال قبل | F57: 1دی تا 30 اسفند پنج سال قبل
B58: جمع | C58: =SUM(C48:C56) -> 0 | D58: =SUM(D48:D56) -> 0 | E58: =SUM(E48:E56) -> 0 | F58: =SUM(F48:F56) -> 0
B59: توضیحات
A61: نام مراقبت | B61: کد | C61: سه ماهه اول | D61: سه ماهه دوم | E61: سه ماهه سوم | F61: سه ماهه چهارم | H61: درصد پوشش مانا زیر 2 ماه غیر پزشک | J61: ویژه شاخص سالانه
A62: پيگيري كودك بيمار كمتر از 2 ماه | B62: 8259 | I62: زیر 2 ماه | J62: تعداد متولدین 2 بهمن سال قبل تا پایان اسفند همان سال
A63: ارزيابي کودک بيمار کمتر از 2 ماه (غيرپزشک ) | B63: 8156
B64: جمع | C64: =SUM(C62:C63) -> 0 | D64: =SUM(D62:D63) -> 0 | E64: =SUM(E62:E63) -> 0 | F64: =SUM(F62:F63) -> 0 | G64: صورت | J64: تعداد مراقبت مانا غیر پزشک کمتر از 2 ماه | K64: =SUM(C64:F64) -> 0
B65: جمعیت کودکان زیر 2 ماه | G65: مخرج
B66: تاریخ تولد | C66: 2بهمن سال قبل تا31خردادهمان سال | D66: 2اردیبهشت تا31شهریور همان سال | E66: 2مرداد تا 30 آذرهمان سال | F66: 2آبان تا 29 اسفند همان سال
B67: توضیحات
J68: ویژه شاخص سالانه
A69: نام مراقبت | B69: کد | C69: سه ماهه اول | D69: سه ماهه دوم | E69: سه ماهه سوم | F69: سه ماهه چهارم | H69: پوشش مانا غیر پزشک (ارزیابی کودک بالای 2 ماه) | I69: بالای دو ماه | J69: 1فروردین 5 سال قبل تا 30 دی همان سال
A70: ارزیابی کودک بیمار بالای 2 ماه (غیرپزشک-پایلوت) | B70: 8154
A71: پيگيري كودك بالاي 2 ماه | B71: 8258 | J71: تعداد مراقبت مانا غیر پزشک بالای 2 ماه | K71: =SUM(C72:F72) -> 0
B72: جمع | C72: =SUM(C70:C71) -> 0 | D72: =SUM(D70:D71) -> 0 | E72: =SUM(E70:E71) -> 0 | F72: =SUM(F70:F71) -> 0 | G72: صورت
B73: جمعیت کودکان بالای 2 تا60 ماه | G73: مخرج
B74: تاریخ تولد | C74: 1فروردین5سال قبل تا 31فروردین همان سال | D74: 1تیر5سال قبل تا 31تیر همان سال | E74: 1مهر5سال قبل تا30 مهر همان سال | F74: 1دی 5 سال قبل تا30 دی همان سال
B75: توضیحات
A77: نام مراقبت | B77: کد | C77: سه ماهه اول | D77: سه ماهه دوم | E77: سه ماهه سوم | F77: سه ماهه چهارم | H77: درصد پوشش مانا زیر 2 ماه پزشک | J77: ویژه شاخص سالانه
A78: ارزیابی کودک بیمار کمتر از 2 ماه (پزشک- پایلوت) | B78: 8145 | I78: زیر 2 ماه | J78: تعداد متولدین 2 بهمن سال قبل تا پایان اسفند همان سال | K78: =SUM(K62) -> 0
A79: بررسی علایم خطر فوری شیرخوار (کمتر از 2 ماه) بیمار (پزشک) | B79: 6858
A80: ارزیابی و درمان نشانه های خطر (شیرخوار بیمار کمتر از 2 ماه) | B80: 6861 | J80: تعداد مراقبت مانا پزشک کمتر از 2 ماه | K80: =SUM(C81:F81) -> 0
B81: جمع | C81: =SUM(C78:C80) -> 0 | D81: =SUM(D78:D80) -> 0 | E81: =SUM(E78:E80) -> 0 | F81: =SUM(F78:F80) -> 0 | G81: صورت
B82: جمعیت کودکان زیر 2 ماه | C82: =SUM(C65) -> 0 | D82: =SUM(D65) -> 0 | E82: =SUM(E65) -> 0 | F82: =SUM(F65) -> 0 | G82: مخرج
B83: تاریخ تولد | C83: 2بهمن سال قبل تا31خرداد همان سال | D83: 2اردیبهشت تا31شهریور همان سال | E83: 2مرداد تا 31آذر همان سال | F83: 2آبان تا 29اسفند همان سال
B84: توضیحات
A86: نام مراقبت | B86: کد | C86: سه ماهه اول | D86: سه ماهه دوم | E86: سه ماهه سوم | F86: سه ماهه چهارم | H86: پوشش مانا پزشک (ارزیابی کودک بالای 2 ماه) | J86: ویژه شاخص سالانه
A87: ارزیابی کودک بیمار بالای 2 ماه - پزشک - پایلوت | B87: 8116 | I87: بالای دو ماه | J87: 1فروردین 5 سال قبل تا 30 دی همان سال | K87: =SUM(K69) -> 0
A88: ارزیابی کودک بیمار بالای 2 ماه - پزشک - پایلوت | B88: 8141
A89: ارزیابی و درمان نشانه های خطر (کودک بیمار 2 ماه تا 5 سال) | B89: 6483 | J89: تعداد مراقبت مانا پزشک بالای 2 ماه | K89: =SUM(C90:F90) -> 0
B90: جمع | C90: =SUM(C87:C89) -> 0 | D90: =SUM(D87:D89) -> 0 | E90: =SUM(E87:E89) -> 0 | F90: =SUM(F87:F89) -> 0 | G90: صورت
B91: جمعیت کودکان بالای 2 تا60 ماه | C91: =SUM(C73) -> 0 | D91: =SUM(D73) -> 0 | E91: =SUM(E73) -> 0 | F91: =SUM(F73) -> 0 | G91: مخرج
B92: تاریخ تولد | C92: 1فروردین5سال قبل تا 31فروردین همان سال | D92: 1تیر5سال قبل تا 31تیر همان سال | E92: 1مهر5سال قبل تا30 مهر همان سال | F92: 1دی 5 سال قبل تا30 دی همان سال
B93: توضیحات
C95: سه ماهه اول | D95: سه ماهه دوم | E95: سه ماهه سوم | F95: سه ماهه چهارم | H95: درصد پوشش مکمل آهن( 15 میلی) | J95: ویژه شاخص سالانه
B96: تعداد قطره آهن مصرفی | G96: صورت | I96: 6تا 24 ماه | J96: تعداد متولدین 1فروردین دو سال قبل تا 31 شهریور همان سال
B97: تعداد کودکان 6 تا24 ماه | G97: مخرج*4.5
B98: تاریخ تولد | C98: 1فروردین دو سال قبل تا 30 آذر سال قبل | D98: 1تیر دو سال قبل تا 30 اسفند سال قبل | E98: 1مهر دو سال قبل تا 31 خرداد همان سال | F98: 1دی دو سال قبل تا 31 شهریور همان سال | J98: تعداد آهن مصرفی کل سال | K98: =SUM(C96:F96) -> 0
B99: توضیحات
C101: سه ماهه اول | D101: سه ماهه دوم | E101: سه ماهه سوم | F101: سه ماهه چهارم | H101: درصد پوشش مکمل ویتامین آد و مولتی ویتامین (15 میلی) | I101: زیر 24 ماه | J101: تعداد متولدین 1فروردین دو سال قبل تا پایان اسفند همان سال
B102: تعداد قطره مولتی ویتامین مصرفی
B103: تعداد قطره آد مصرفی
B104: جمع | C104: =SUM(C102:C103) -> 0 | D104: =SUM(D102:D103) -> 0 | E104: =SUM(E102:E103) -> 0 | F104: =SUM(F102:F103) -> 0 | G104: صورت
B105: تعداد کودکان زیر 24 ماه | G105: مخرج*6
B106: تاریخ تولد | C106: 1فروردین دو سال قبل تا 31 خرداد همان سال | D106: 1تیر دو سال قبل تا 31 شهریور همان سال | E106: 1مهر دو سال قبل تا 30آذر همان سال | F106: 1دی دو سال قبل تا 30 اسفند همان سال | J106: تعداد مولتی و آد مصرفی کل سال | K106: =SUM(C104:F104) -> 0
B107: توضیحات

Sheet شاخص های فصلی
C1: سه ماهه اول | D1: شاخص سه ماهه اول | E1: سه ماهه دوم | F1: شاخص سه ماهه دوم | G1: سه ماهه سوم | H1: شاخص سه ماهه سوم | I1: سه ماهه چهارم | J1: شاخص سه ماهه چهارم | L1: شاخص سالانه
A2: پوشش مراقبت کودک غیر پزشک | C2: =SUM('داده ها'!C16/2.8) -> 0 | D2: =SUM(C2/C3*100) -> #DIV/0! | E2: =SUM('داده ها'!D16/2.8) -> 0 | F2: =SUM(E2/E3*100) -> #DIV/0! | G2: =SUM('داده ها'!E16/2.8) -> 0 | H2: =SUM(G2/G3*100) -> #DIV/0! | I2: =SUM('داده ها'!F16/2.8) -> 0 | J2: =SUM(I2/I3*100) -> #DIV/0! | K2: =SUM('داده ها'!K10/2.8) -> 0 | L2: =SUM(K2/K3*100) -> #DIV/0!
C3: =SUM('داده ها'!C17/4) -> 0 | E3: =SUM('داده ها'!D17/4) -> 0 | G3: =SUM('داده ها'!E17/4) -> 0 | I3: =SUM('داده ها'!F17/4) -> 0 | K3: =SUM('داده ها'!K13:K17) -> 0
C6: سه ماهه اول | D6: شاخص سه ماهه اول | E6: سه ماهه دوم | F6: شاخص سه ماهه دوم | G6: سه ماهه سوم | H6: شاخص سه ماهه سوم | I6: سه ماهه چهارم | J6: شاخص سه ماهه چهارم | L6: شاخص سالانه
A7: پوشش مراقبت کودک پزشک | C7: =SUM('داده ها'!C27) -> 0 | D7: =SUM(C7/C8*100) -> #DIV/0! | E7: =SUM('داده ها'!D27) -> 0 | F7: =SUM(E7/E8*100) -> #DIV/0! | G7: =SUM('داده ها'!E27) -> 0 | H7: =SUM(G7/G8*100) -> #DIV/0! | I7: =SUM('داده ها'!F27) -> 0 | J7: =SUM(I7/I8*100) -> #DIV/0! | K7: =SUM('داده ها'!K39) -> 0 | L7: =SUM(K7/K8*100) -> #DIV/0!
C8: =SUM('داده ها'!C38) -> 0 | E8: =SUM('داده ها'!D38) -> 0 | G8: =SUM('داده ها'!E38) -> 0 | I8: =SUM('داده ها'!F38) -> 0 | K8: =SUM('داده ها'!K27) -> 0
C11: سه ماهه اول | D11: شاخص سه ماهه اول | E11: سه ماهه دوم | F11: شاخص سه ماهه دوم | G11: سه ماهه سوم | H11: شاخص سه ماهه سوم | I11: سه ماهه چهارم | J11: شاخص سه ماهه چهارم | L11: شاخص سالانه
A12: پوشش ASQ | B12: پوشش ASQ شش ماهگی | C12: =SUM('داده ها'!C42) -> 0 | D12: =SUM('داده ها'!C42/'داده ها'!C48*100) -> #DIV/0! | E12: =SUM('داده ها'!D42) -> 0 | F12: =SUM('داده ها'!D42/'داده ها'!D48*100) -> #DIV/0! | G12: =SUM('داده ها'!E42) -> 0 | H12: =SUM('داده ها'!E42/'داده ها'!E48*100) -> #DIV/0! | I12: =SUM('داده ها'!F42) -> 0 | J12: =SUM('داده ها'!F42/'داده ها'!F48*100) -> #DIV/0! | K12: =SUM('داده ها'!K42) -> 0 | L12: =SUM(K12/K13*100) -> #DIV/0!
C13: =SUM('داده ها'!C48) -> 0 | E13: =SUM('داده ها'!D48) -> 0 | G13: =SUM('داده ها'!E48) -> 0 | I13: =SUM('داده ها'!F48) -> 0 | K13: =SUM('داده ها'!K49) -> 0
B14: پوشش ASQ یک سالگی | C14: =SUM('داده ها'!C43) -> 0 | D14: =SUM('داده ها'!C43/'داده ها'!C50*100) -> #DIV/0! | E14: =SUM('داده ها'!D43) -> 0 | F14: =SUM('داده ها'!D43/'داده ها'!D50*100) -> #DIV/0! | G14: =SUM('داده ها'!E43) -> 0 | H14: =SUM('داده ها'!E43/'داده ها'!E50*100) -> #DIV/0! | I14: =SUM('داده ها'!F43) -> 0 | J14: =SUM('داده ها'!F43/'داده ها'!F50*100) -> #DIV/0! | K14: =SUM('داده ها'!K43) -> 0 | L14: =SUM(K14/K15*100) -> #DIV/0!
C15: =SUM('داده ها'!C50) -> 0 | E15: =SUM('داده ها'!D50) -> 0 | G15: =SUM('داده ها'!E50) -> 0 | I15: =SUM('داده ها'!F50) -> 0 | K15: =SUM('داده ها'!K50) -> 0
B16: پوشش ASQ دو سالگی | C16: =SUM('داده ها'!C44) -> 0 | D16: =SUM('داده ها'!C44/'داده ها'!C52*100) -> #DIV/0! | E16: =SUM('داده ها'!D44) -> 0 | F16: =SUM('داده ها'!D44/'داده ها'!D52*100) -> #DIV/0! | G16: =SUM('داده ها'!E44) -> 0 | H16: =SUM('داده ها'!E44/'داده ها'!E52*100) -> #DIV/0! | I16: =SUM('داده ها'!F44) -> 0 | J16: =SUM('داده ها'!F44/'داده ها'!F52*100) -> #DIV/0! | K16: =SUM('داده ها'!K44) -> 0 | L16: =SUM(K16/K17*100) -> #DIV/0!
C17: =SUM('داده ها'!C52) -> 0 | E17: =SUM('داده ها'!D52) -> 0 | G17: =SUM('داده ها'!E52) -> 0 | I17: =SUM('داده ها'!F52) -> 0 | K17: =SUM('داده ها'!K51) -> 0
B18: پوشش ASQ سه سالگی | C18: =SUM('داده ها'!C45) -> 0 | D18: =SUM('داده ها'!C45/'داده ها'!C54*100) -> #DIV/0! | E18: =SUM('داده ها'!D45) -> 0 | F18: =SUM('داده ها'!D45/'داده ها'!D54*100) -> #DIV/0! | G18: =SUM('داده ها'!E45) -> 0 | H18: =SUM('داده ها'!E45/'داده ها'!E54*100) -> #DIV/0! | I18: =SUM('داده ها'!F45) -> 0 | J18: =SUM('داده ها'!F45/'داده ها'!F54*100) -> #DIV/0! | K18: =SUM('داده ها'!K45) -> 0 | L18: =SUM(K18/K19*100) -> #DIV/0!
C19: =SUM('داده ها'!C54) -> 0 | E19: =SUM('داده ها'!D54) -> 0 | G19: =SUM('داده ها'!E54) -> 0 | I19: =SUM('داده ها'!F54) -> 0 | K19: =SUM('داده ها'!K52) -> 0
B20: پوشش ASQ پنج سالگی | C20: =SUM('داده ها'!C46) -> 0 | D20: =SUM('داده ها'!C46/'داده ها'!C56*100) -> #DIV/0! | E20: =SUM('داده ها'!D46) -> 0 | F20: =SUM('داده ها'!D46/'داده ها'!D56*100) -> #DIV/0! | G20: =SUM('داده ها'!E46) -> 0 | H20: =SUM('داده ها'!E46/'داده ها'!E56*100) -> #DIV/0! | I20: =SUM('داده ها'!F46) -> 0 | J20: =SUM('داده ها'!F46/'داده ها'!F56*100) -> #DIV/0! | K20: =SUM('داده ها'!K46) -> 0 | L20: =SUM(K20/K21*100) -> #DIV/0!
C21: =SUM('داده ها'!C56) -> 0 | E21: =SUM('داده ها'!D56) -> 0 | G21: =SUM('داده ها'!E56) -> 0 | I21: =SUM('داده ها'!F56) -> 0 | K21: =SUM('داده ها'!K53) -> 0
B22: پوشش کل ASQها | C22: =SUM('داده ها'!C47) -> 0 | D22: =SUM('داده ها'!C47/'داده ها'!C58*100) -> #DIV/0! | E22: =SUM('داده ها'!D47) -> 0 | F22: =SUM('داده ها'!D47/'داده ها'!D58*100) -> #DIV/0! | G22: =SUM('داده ها'!E47) -> 0 | H22: =SUM('داده ها'!E47/'داده ها'!E58*100) -> #DIV/0! | I22: =SUM('داده ها'!F47) -> 0 | J22: =SUM('داده ها'!F47/'داده ها'!F58*100) -> #DIV/0! | K22: =SUM('داده ها'!K47) -> 0 | L22: =SUM(K22/K23*100) -> #DIV/0!
C23: =SUM('داده ها'!C58) -> 0 | E23: =SUM('داده ها'!D58) -> 0 | G23: =SUM('داده ها'!E58) -> 0 | I23: =SUM('داده ها'!F58) -> 0 | K23: =SUM('داده ها'!K54) -> 0
C27: سه ماهه اول | D27: شاخص سه ماهه اول | E27: سه ماهه دوم | F27: شاخص سه ماهه دوم | G27: سه ماهه سوم | H27: شاخص سه ماهه سوم | I27: سه ماهه چهارم | J27: شاخص سه ماهه چهارم | L27: شاخص سالانه
A28: پوشش مانا زیر 2 ماه غیرپزشک | C28: =SUM('داده ها'!C64) -> 0 | D28: =SUM(C28/C29*100) -> #DIV/0! | E28: =SUM('داده ها'!D64) -> 0 | F28: =SUM(E28/E29*100) -> #DIV/0! | G28: =SUM('داده ها'!E64) -> 0 | H28: =SUM(G28/G29*100) -> #DIV/0! | I28: =SUM('داده ها'!F64) -> 0 | J28: =SUM(I28/I29*100) -> #DIV/0! | K28: =SUM('داده ها'!K64:K65) -> 0 | L28: =SUM(K28/K29*100) -> #DIV/0!
C29: =SUM('داده ها'!C65) -> 0 | E29: =SUM('داده ها'!D65) -> 0 | G29: =SUM('داده ها'!E65) -> 0 | I29: =SUM('داده ها'!F65) -> 0 | K29: =SUM('داده ها'!K62:K63) -> 0
C32: سه ماهه اول | D32: شاخص سه ماهه اول | E32: سه ماهه دوم | F32: شاخص سه ماهه دوم | G32: سه ماهه سوم | H32: شاخص سه ماهه سوم | I32: سه ماهه چهارم | J32: شاخص سه ماهه چهارم | L32: شاخص سالانه
A33: پوشش مانا غیر پزشک (بالای 2 ماه) | C33: =SUM('داده ها'!C72) -> 0 | D33: =SUM(C33/C34*100) -> #DIV/0! | E33: =SUM('داده ها'!D72) -> 0 | F33: =SUM(E33/E34*100) -> #DIV/0! | G33: =SUM('داده ها'!E72) -> 0 | H33: =SUM(G33/G34*100) -> #DIV/0! | I33: =SUM('داده ها'!F72) -> 0 | J33: =SUM(I33/I34*100) -> #DIV/0! | K33: =SUM('داده ها'!K71:K72) -> 0 | L33: =SUM(K33/K34*100) -> #DIV/0!
C34: =SUM('داده ها'!C73) -> 0 | E34: =SUM('داده ها'!D73) -> 0 | G34: =SUM('داده ها'!E73) -> 0 | I34: =SUM('داده ها'!F73) -> 0 | K34: =SUM('داده ها'!K69:K70) -> 0
C37: سه ماهه اول | D37: شاخص سه ماهه اول | E37: سه ماهه دوم | F37: شاخص سه ماهه دوم | G37: سه ماهه سوم | H37: شاخص سه ماهه سوم | I37: سه ماهه چهارم | J37: شاخص سه ماهه چهارم | L37: شاخص سالانه
A38: پوشش مانا پزشک (زیر 2 ماه) | C38: =SUM('داده ها'!C81) -> 0 | D38: =SUM(C38/C39*100) -> #DIV/0! | E38: =SUM('داده ها'!D81) -> 0 | F38: =SUM(E38/E39*100) -> #DIV/0! | G38: =SUM('داده ها'!E81) -> 0 | H38: =SUM(G38/G39*100) -> #DIV/0! | I38: =SUM('داده ها'!F81) -> 0 | J38: =SUM(I38/I39*100) -> #DIV/0! | K38: =SUM('داده ها'!K80:K81) -> 0 | L38: =SUM(K38/K39*100) -> #DIV/0!
C39: =SUM('داده ها'!C82) -> 0 | E39: =SUM('داده ها'!D82) -> 0 | G39: =SUM('داده ها'!E82) -> 0 | I39: =SUM('داده ها'!F82) -> 0 | K39: =SUM('داده ها'!K78:K79) -> 0
C42: سه ماهه اول | D42: شاخص سه ماهه اول | E42: سه ماهه دوم | F42: شاخص سه ماهه دوم | G42: سه ماهه سوم | H42: شاخص سه ماهه سوم | I42: سه ماهه چهارم | J42: شاخص سه ماهه چهارم | L42: شاخص سالانه
A43: پوشش مانا پزشک (بالای 2 ماه) | C43: =SUM('داده ها'!C90) -> 0 | D43: =SUM(C43/C44*100) -> #DIV/0! | E43: =SUM('داده ها'!D90) -> 0 | F43: =SUM(E43/E44*100) -> #DIV/0! | G43: =SUM('داده ها'!E90) -> 0 | H43: =SUM(G43/G44*100) -> #DIV/0! | I43: =SUM('داده ها'!F90) -> 0 | J43: =SUM(I43/I44*100) -> #DIV/0! | K43: =SUM('داده ها'!K89:K90) -> 0 | L43: =SUM(K43/K44*100) -> #DIV/0!
C44: =SUM('داده ها'!C91) -> 0 | E44: =SUM('داده ها'!D91) -> 0 | G44: =SUM('داده ها'!E91) -> 0 | I44: =SUM('داده ها'!F91) -> 0 | K44: =SUM('داده ها'!K87:K88) -> 0
C47: سه ماهه اول | D47: شاخص سه ماهه اول | E47: سه ماهه دوم | F47: شاخص سه ماهه دوم | G47: سه ماهه سوم | H47: شاخص سه ماهه سوم | I47: سه ماهه چهارم | J47: شاخص سه ماهه چهارم | L47: شاخص سالانه
A48: درصد پوشش فصلی مکمل آهن (15 میلی) | C48: =SUM('داده ها'!C96) -> 0 | D48: =SUM(C48/C49*100) -> #DIV/0! | E48: =SUM('داده ها'!D96) -> 0 | F48: =SUM(E48/E49*100) -> #DIV/0! | G48: =SUM('داده ها'!E96) -> 0 | H48: =SUM(G48/G49*100) -> #DIV/0! | I48: =SUM('داده ها'!F96) -> 0 | J48: =SUM(I48/I49*100) -> #DIV/0! | K48: =SUM('داده ها'!K98) -> 0 | L48: =SUM(K48/K49*100) -> #DIV/0!
C49: =SUM('داده ها'!C97*4.5) -> 0 | E49: =SUM('داده ها'!D97*4.5) -> 0 | G49: =SUM(N55+'داده ها'!E97*4.5) -> 0 | I49: =SUM('داده ها'!F97*4.5) -> 0 | K49: {=SUM('داده ها'!K96:K97*18)} -> 0
C52: سه ماهه اول | D52: شاخص سه ماهه اول | E52: سه ماهه دوم | F52: شاخص سه ماهه دوم | G52: سه ماهه سوم | H52: شاخص سه ماهه سوم | I52: سه ماهه چهارم | J52: شاخص سه ماهه چهارم | L52: شاخص سالانه
A53: درصد پوشش فصلی مکمل آد و مولتی ویتامین (15 میلی) | C53: =SUM('داده ها'!C104) -> 0 | D53: =SUM(C53/C54*100) -> #DIV/0! | E53: =SUM('داده ها'!D104) -> 0 | F53: =SUM(E53/E54*100) -> #DIV/0! | G53: =SUM('داده ها'!E104) -> 0 | H53: =SUM(G53/G54*100) -> #DIV/0! | I53: =SUM('داده ها'!F104) -> 0 | J53: =SUM(I53/I54*100) -> #DIV/0! | K53: =SUM('داده ها'!K106) -> 0 | L53: =SUM(K53/K54*100) -> #DIV/0!
C54: =SUM('داده ها'!C105*6) -> 0 | E54: =SUM('داده ها'!D105*6) -> 0 | G54: =SUM('داده ها'!E105*6) -> 0 | I54: =SUM('داده ها'!F105*6) -> 0 | K54: {=SUM('داده ها'!K101:K105*24)} -> 0

Sheet نمودارها
