Workbook

Sheet داده ها
A1: نام مراقبت | B1: کد | C1: سه ماهه اول | D1: سه ماهه دوم | E1: سه ماهه سوم | F1: سه ماهه چهارم
A2: ارزيابي رشد کودک کمتر از 5 سال (45-30 روزگي) (غيرپزشک) | B2: 24058 | H2: پوشش مراقبت کودک غیر پزشک
A3: ارزيابي رشد کودک کمتر از 5 سال (2 ماهگي) (غيرپزشک) | B3: 24059
A4: ارزيابي رشد کودک کمتر از 5 سال (4 ماهگي) (غيرپزشک) | B4: 24060
A5: ارزيابي رشد کودک کمتر از 5 سال (6 ماهگي) (غيرپزشک) | B5: 24061
A6: ارزيابي رشد کودک کمتر از 5 سال (7 ماهگي) (غيرپزشک) | B6: 24062
A7: ارزيابي رشد کودک کمتر از 5 سال (9 ماهگي) (غيرپزشک) | B7: 24063
A8: ارزيابي رشد کودک کمتر از 5 سال (1 سالگي) (غيرپزشک) | B8: 24064
A9: ارزيابي رشد کودک کمتر از 5 سال (15 ماهگي) (غيرپزشک) | B9: 24065 | J9: ویژه شاخص سالانه
A10: ارزيابي رشد کودک کمتر از 5 سال (18 ماهگي) (غيرپزشک) | B10: 24066 | J10: مجموع مراقبت های کودک سالم | K10: =SUM(C16+D16+E16+F16) -> 0
A11: ارزيابي رشد کودک کمتر از 5 سال (2 سالگي) (غيرپزشک) | B11: 24067
A12: ارزيابي رشد کودک کمتر از 5 سال (2.5 سالگي) (غيرپزشک) | B12: 24068 | J12: ویژه شاخص سالانه
A13: ارزيابي رشد کودک کمتر از 5 سال (3 سالگي) (غيرپزشک) | B13: 24069 | J13: تعداد متولدین 1فروردین 5 سال قبل تا 30 بهمن همان سال
A14: ارزيابي رشد کودک کمتر از 5 سال (4 سالگي) (غيرپزشک) | B14: 24070
A15: ارزيابي رشد کودک کمتر از 5 سال (5 سالگي) (غيرپزشک) | B15: 24071
B16: جمع | C16: =SUM(C2:C15) -> 0 | D16: =SUM(D2:D15) -> 0 | E16: =SUM(E2:E15) -> 0 | F16: =SUM(F2:F15) -> 0 | G16: صورت/2.8
B17: جمعیت 1 تا 60 ماهه | G17: مخرج/4
B18: تاریخ تولد | C18: 1فروردین 5سال قبل تا 31 اردیبهشت همان سال | D18: 1تیر 5سال قبل تا 31 مرداد همان سال | E18: 1مهر 5سال قبل تا 30 آبان همان سال | F18: 1دی 5سال قبل تا 30 بهمن همان سال
B19: توضیحات
A21: نام مراقبت | B21: کد | C21: سه ماهه اول | D21: سه ماهه دوم | E21: سه ماهه سوم | F21: سه ماهه چهارم | H21: پوشش مراقبت کودک پزشک | J21: ویژه شاخص سالانه
A22: ارزیابی کودک در معاینه (ویزیت 6ماهگی- پزشك)- پایلوت | B22: 24106 | J22: مجموع جمعیت 6 ماهه ها | K22: =SUM(C28+D28+E28+F28) -> 0
A23: ارزیابی کودک در معاینه (ویزیت 12 ماهگی- پزشك)- پایلوت | B23: 24107 | J23: مجموع جمعیت 12 ماهه ها | K23: =SUM(C30+D30+E30+F30) -> 0
A24: ارزیابی کودک در معاینه (ویزیت 2 سالگی- پزشك)- پایلوت | B24: 24108 | J24: مجموع جمعیت 24 ماهه ها | K24: =SUM(C32+D32+E32+F32) -> 0
A25: ارزیابی کودک در معاینه (ویزیت 3 سالگی- پزشك)- پایلوت | B25: 24109 | J25: مجموع جمعیت 36 ماهه ها | K25: =SUM(C34+D34+E34+F34) -> 0
A26: ارزیابی کودک در معاینه (ویزیت 5 سالگی- پزشك)- پایلوت | B26: 24110 | J26: مجموع جمعیت 60 ماهه ها | K26: =SUM(C36+D36+E36+F36) -> 0
B27: جمع | C27: =SUM(C22:C26) -> 0 | D27: =SUM(D22:D26) -> 0 | E27: =SUM(E22:E26) -> 0 | F27: =SUM(F22:F26) -> 0 | G27: صورت | J27: جمع | K27: =SUM(K22:K26) -> 0
B28: جمعیت 6 ماهه
C29: 1مهر تا 30آذر سال قبل | D29: 1دی تا 30 اسفند سال قبل | E29: 1فروردین تا 31 خرداد همان سال | F29: 1تیر تا 31شهریور همان سال
B30: جمعیت یک ساله
C31: 1فروردین تا 31 خرداد سال قبل | D31: 1تیر تا 31 شهریور سال قبل | E31: 1مهر تا 30 آذر سال قبل | F31: 1دی تا 30 اسفند سال قبل
B32: جمعیت دو ساله
C33: 1فروردین تا 31 خرداد دو سال قبل | D33: 1تیر تا 31 شهریور دو سال قبل | E33: 1مهر تا 30 آذر دو سال قبل | F33: 1دی تا 30 اسفند دو سال قبل | J33: ویژه شاخص سالانه
B34: جمعیت سه ساله | J34: مجموع ویزیت 6 ماهه ها | K34: =SUM(C22:F22) -> 0
C35: 1فروردین تا 31 خرداد سه سال قبل | D35: 1تیر تا 31 شهریور سه سال قبل | E35: 1مهر تا 30 آذر سه سال قبل | F35: 1دی تا 30 اسفند سه سال قبل | J35: مجموع ویزیت 12 ماهه ها | K35: =SUM(C23:F23) -> 0
B36: جمعیت پنج ساله | J36: مجموع ویزیت 24 ماهه ها | K36: =SUM(C24:F24) -> 0
C37: 1فروردین تا 31 خرداد پنج سال قبل | D37: 1تیر تا 31 شهریور پنج سال قبل | E37: 1مهر تا 30 آذر پنج سال قبل | F37: 1دی تا 30 اسفند پنج سال قبل | J37: مجموع ویزیت 36 ماهه ها | K37: =SUM(C25:F25) -> 0
B38: جمع | C38: =SUM(C28:C36) -> 0 | D38: =SUM(D28:D36) -> 0 | E38: =SUM(E28:E36) -> 0 | F38: =SUM(F28:F36) -> 0 | G38: مخرج | J38: مجموع ویزیت 60 ماهه ها | K38: =SUM(C26:F26) -> 0
B39: توضیحات | J39: جمع ویزیت | K39: =SUM(K34:K38) -> 0
A41: نام مراقبت | B41: کد | C41: سه ماهه اول | D41: سه ماهه دوم | E41: سه ماهه سوم | F41: سه ماهه چهارم | G41: صورت | H41: پوشش ASQ | J41: ویژه شاخص سالانه
A42: غربالگري تکامل 6ماهگي با استفاده از پرسشنامه ASQ | B42: 7890 | J42: مجموع ASQ 6 ماهگی | K42: =SUM(C42+D42+E42+F42) -> 0
...

Sheet شاخص های فصلی
C1: سه ماهه اول | D1: شاخص سه ماهه اول | E1: سه ماهه دوم | F1: شاخص سه ماهه دوم | G1: سه ماهه سوم | H1: شاخص سه ماهه سوم | I1: سه ماهه چهارم | J1: شاخص سه ماهه چهارم | L1: شاخص سالانه
A2: پوشش مراقبت کودک غیر پزشک | C2: =SUM('داده ها'!C16/2.8) -> 0 | D2: =SUM(C2/C3*100) -> #DIV/0! | E2: =SUM('داده ها'!D16/2.8) -> 0 | F2: =SUM(E2/E3*100) -> #DIV/0! | G2: =SUM('داده ها'!E16/2.8) -> 0 | H2: =SUM(G2/G3*100) -> #DIV/0! | I2: =SUM('داده ها'!F16/2.8) -> 0 | J2: =SUM(I2/I3*100) -> #DIV/0! | K2: =SUM('داده ها'!K10/2.8) -> 0 | L2: =SUM(K2/K3*100) -> #DIV/0!
C3: =SUM('داده ها'!C17/4) -> 0 | E3: =SUM('داده ها'!D17/4) -> 0 | G3: =SUM('داده ها'!E17/4) -> 0 | I3: =SUM('داده ها'!F17/4) -> 0 | K3: =SUM('داده ها'!K13:K17) -> 0
C6: سه ماهه اول | D6: شاخص سه ماهه اول | E6: سه ماهه دوم | F6: شاخص سه ماهه دوم | G6: سه ماهه سوم | H6: شاخص سه ماهه سوم | I6: سه ماهه چهارم | J6: شاخص سه ماهه چهارم | L6: شاخص سالانه
A7: پوشش مراقبت کودک پزشک | C7: =SUM('داده ها'!C27) -> 0 | D7: =SUM(C7/C8*100) -> #DIV/0! | E7: =SUM('داده ها'!D27) -> 0 | F7: =SUM(E7/E8*100) -> #DIV/0! | G7: =SUM('داده ها'!E27) -> 0 | H7: =SUM(G7/G8*100) -> #DIV/0! | I7: =SUM('داده ها'!F27) -> 0 | J7: =SUM(I7/I8*100) -> #DIV/0! | K7: =SUM('داده ها'!K39) -> 0 | L7: =SUM(K7/K8*100) -> #DIV/0!
C8: =SUM('داده ها'!C38) -> 0 | E8: =SUM('داده ها'!D38) -> 0 | G8: =SUM('داده ها'!E38) -> 0 | I8: =SUM('داده ها'!F38) -> 0 | K8: =SUM('داده ها'!K27) -> 0
C11: سه ماهه اول | D11: شاخص سه ماهه اول | E11: سه ماهه دوم | F11: شاخص سه ماهه دوم | G11: سه ماهه سوم | H11: شاخص سه ماهه سوم | I11: سه ماهه چهارم | J11: شاخص سه ماهه چهارم | L11: شاخص سالانه
A12: پوشش ASQ | B12: پوشش ASQ شش ماهگی | C12: =SUM('داده ها'!C42) -> 0 | D12: =SUM('داده ها'!C42/'داده ها'!C48*100) -> #DIV/0! | E12: =SUM('داده ها'!D42) -> 0 | F12: =SUM('داده ها'!D42/'داده ها'!D48*100) -> #DIV/0! | G12: =SUM('داده ها'!E42) -> 0 | H12: =SUM('داده ها'!E42/'داده ها'!E48*100) -> #DIV/0! | I12: =SUM('داده ها'!F42) -> 0 | J12: =SUM('داده ها'!F42/'داده ها'!F48*100) -> #DIV/0! | K12: =SUM('داده ها'!K42) -> 0 | L12: =SUM(K12/K13*100) -> #DIV/0!
C13: =SUM('داده ها'!C48) -> 0 | E13: =SUM('داده ها'!D48) -> 0 | G13: =SUM('داده ها'!E48) -> 0 | I13: =SUM('داده ها'!F48) -> 0 | K13: =SUM('داده ها'!K49) -> 0
B14: پوشش ASQ یک سالگی | C14: =SUM('داده ها'!C43) -> 0 | D14: =SUM('داده ها'!C43/'داده ها'!C50*100) -> #DIV/0! | E14: =SUM('داده ها'!D43) -> 0 | F14: =SUM('داده ها'!D43/'داده ها'!D50*100) -> #DIV/0! | G14: =SUM('داده ها'!E43) -> 0 | H14: =SUM('داده ها'!E43/'داده ها'!E50*100) -> #DIV/0! | I14: =SUM('داده ها'!F43) -> 0 | J14: =SUM('داده ها'!F43/'داده ها'!F50*100) -> #DIV/0! | K14: =SUM('داده ها'!K43) -> 0 | L14: =SUM(K14/K15*100) -> #DIV/0!
C15: =SUM('داده ها'!C50) -> 0 | E15: =SUM('داده ها'!D50) -> 0 | G15: =SUM('داده ها'!E50) -> 0 | I15: =SUM('داده ها'!F50) -> 0 | K15: =SUM('داده ها'!K50) -> 0
B16: پوشش ASQ دو سالگی | C16: =SUM('داده ها'!C44) -> 0 | D16: =SUM('داده ها'!C44/'داده ها'!C52*100) -> #DIV/0! | E16: =SUM('داده ها'!D44) -> 0 | F16: =SUM('داده ها'!D44/'داده ها'!D52*100) -> #DIV/0! | G16: =SUM('داده ها'!E44) -> 0 | H16: =SUM('داده ها'!E44/'داده ها'!E52*100) -> #DIV/0! | I16: =SUM('داده ها'!F44) -> 0 | J16: =SUM('داده ها'!F44/'داده ها'!F52*100) -> #DIV/0! | K16: =SUM('داده ها'!K44) -> 0 | L16: =SUM(K16/K17*100) -> #DIV/0!
C17: =SUM('داده ها'!C52) -> 0 | E17: =SUM('داده ها'!D52) -> 0 | G17: =SUM('داده ها'!E52) -> 0 | I17: =SUM('داده ها'!F52) -> 0 | K17: =SUM('داده ها'!K51) -> 0
B18: پوشش ASQ سه سالگی | C18: =SUM('داده ها'!C45) -> 0 | D18: =SUM('داده ها'!C45/'داده ها'!C54*100) -> #DIV/0! | E18: =SUM('داده ها'!D45) -> 0 | F18: =SUM('داده ها'!D45/'داده ها'!D54*100) -> #DIV/0! | G18: =SUM('داده ها'!E45) -> 0 | H18: =SUM('داده ها'!E45/'داده ها'!E54*100) -> #DIV/0! | I18: =SUM('داده ها'!F45) -> 0 | J18: =SUM('داده ها'!F45/'داده ها'!F54*100) -> #DIV/0! | K18: =SUM('داده ها'!K45) -> 0 | L18: =SUM(K18/K19*100) -> #DIV/0!
C19: =SUM('داده ها'!C54) -> 0 | E19: =SUM('داده ها'!D54) -> 0 | G19: =SUM('داده ها'!E54) -> 0 | I19: =SUM('داده ها'!F54) -> 0 | K19: =SUM('داده ها'!K52) -> 0
B20: پوشش ASQ پنج سالگی | C20: =SUM('داده ها'!C46) -> 0 | D20: =SUM('داده ها'!C46/'داده ها'!C56*100) -> #DIV/0! | E20: =SUM('داده ها'!D46) -> 0 | F20: =SUM('داده ها'!D46/'داده ها'!D56*100) -> #DIV/0! | G20: =SUM('داده ها'!E46) -> 0 | H20: =SUM('داده ها'!E46/'داده ها'!E56*100) -> #DIV/0! | I20: =SUM('داده ها'!F46) -> 0 | J20: =SUM('داده ها'!F46/'داده ها'!F56*100) -> #DIV/0! | K20: =SUM('داده ها'!K46) -> 0 | L20: =SUM(K20/K21*100) -> #DIV/0!
C21: =SUM('داده ها'!C56) -> 0 | E21: =SUM('داده ها'!D56) -> 0 | G21: =SUM('داده ها'!E56) -> 0 | I21: =SUM('داده ها'!F56) -> 0 | K21: =SUM('داده ها'!K53) -> 0
B22: پوشش کل ASQها | C22: =SUM('داده ها'!C47) -> 0 | D22: =SUM('داده ها'!C47/'داده ها'!C58*100) -> #DIV/0! | E22: =SUM('داده ها'!D47) -> 0 | F22: =SUM('داده ها'!D47/'داده ها'!D58*100) -> #DIV/0! | G22: =SUM('داده ها'!E47) -> 0 | H22: =SUM('داده ها'!E47/'داده ها'!E58*100) -> #DIV/0! | I22: =SUM('داده ها'!F47) -> 0 | J22: =SUM('داده ها'!F47/'داده ها'!F58*100) -> #DIV/0! | K22: =SUM('داده ها'!K47) -> 0 | L22: =SUM(K22/K23*100) -> #DIV/0!
C23: =SUM('داده ها'!C58) -> 0 | E23: =SUM('داده ها'!D58) -> 0 | G23: =SUM('داده ها'!E58) -> 0 | I23: =SUM('داده ها'!F58) -> 0 | K23: =SUM('داده ها'!K54) -> 0
C27: سه ماهه اول | D27: شاخص سه ماهه اول | E27: سه ماهه دوم | F27: شاخص سه ماهه دوم | G27: سه ماهه سوم | H27: شاخص سه ماهه سوم | I27: سه ماهه چهارم | J27: شاخص سه ماهه چهارم | L27: شاخص سالانه
A28: پوشش مانا زیر 2 ماه غیرپزشک | C28: =SUM('داده ها'!C64) -> 0 | D28: =SUM(C28/C29*100) -> #DIV/0! | E28: =SUM('داده ها'!D64) -> 0 | F28: =SUM(E28/E29*100) -> #DIV/0! | G28: =SUM('داده ها'!E64) -> 0 | H28: =SUM(G28/G29*100) -> #DIV/0! | I28: =SUM('داده ها'!F64) -> 0 | J28: =SUM(I28/I29*100) -> #DIV/0! | K28: =SUM('داده ها'!K64:K65) -> 0 | L28: =SUM(K28/K29*100) -> #DIV/0!
C29: =SUM('داده ها'!C65) -> 0 | E29: =SUM('داده ها'!D65) -> 0 | G29: =SUM('داده ها'!E65) -> 0 | I29: =SUM('داده ها'!F65) -> 0 | K29: =SUM('داده ها'!K62:K63) -> 0
C32: سه ماهه اول | D32: شاخص سه ماهه اول | E32: سه ماهه دوم | F32: شاخص سه ماهه دوم | G32: سه ماهه سوم | H32: شاخص سه ماهه سوم | I32: سه ماهه چهارم | J32: شاخص سه ماهه چهارم | L32: شاخص سالانه
A33: پوشش مانا غیر پزشک (بالای 2 ماه) | C33: =SUM('داده ها'!C72) -> 0 | D33: =SUM(C33/C34*100) -> #DIV/0! | E33: =SUM('داده ها'!D72) -> 0 | F33: =SUM(E33/E34*100) -> #DIV/0! | G33: =SUM('داده ها'!E72) -> 0 | H33: =SUM(G33/G34*100) -> #DIV/0! | I33: =SUM('داده ها'!F72) -> 0 | J33: =SUM(I33/I34*100) -> #DIV/0! | K33: =SUM('داده ها'!K71:K72) -> 0 | L33: =SUM(K33/K34*100) -> #DIV/0!
C34: =SUM('داده ها'!C73) -> 0 | E34: =SUM('داده ها'!D73) -> 0 | G34: =SUM('داده ها'!E73) -> 0 | I34: =SUM('داده ها'!F73) -> 0 | K34: =SUM('داده ها'!K69:K70) -> 0
C37: سه ماهه اول | D37: شاخص سه ماهه اول | E37: سه ماهه دوم | F37: شاخص سه ماهه دوم | G37: سه ماهه سوم | H37: شاخص سه ماهه سوم | I37: سه ماهه چهارم | J37: شاخص سه ماهه چهارم | L37: شاخص سالانه
A38: پوشش مانا پزشک (زیر 2 ماه) | C38: =SUM('داده ها'!C81) -> 0 | D38: =SUM(C38/C39*100) -> #DIV/0! | E38: =SUM('داده ها'!D81) -> 0 | F38: =SUM(E38/E39*100) -> #DIV/0! | G38: =SUM('داده ها'!E81) -> 0 | H38: =SUM(G38/G39*100) -> #DIV/0! | I38: =SUM('داده ها'!F81) -> 0 | J38: =SUM(I38/I39*100) -> #DIV/0! | K38: =SUM('داده ها'!K80:K81) -> 0 | L38: =SUM(K38/K39*100) -> #DIV/0!
C39: =SUM('داده ها'!C82) -> 0 | E39: =SUM('داده ها'!D82) -> 0 | G39: =SUM('داده ها'!E82) -> 0 | I39: =SUM('داده ها'!F82) -> 0 | K39: =SUM('داده ها'!K78:K79) -> 0
C42: سه ماهه اول | D42: شاخص سه ماهه اول | E42: سه ماهه دوم | F42: شاخص سه ماهه دوم | G42: سه ماهه سوم | H42: شاخص سه ماهه سوم | I42: سه ماهه چهارم | J42: شاخص سه ماهه چهارم | L42: شاخص سالانه
A43: پوشش مانا پزشک (بالای 2 ماه) | C43: =SUM('داده ها'!C90) -> 0 | D43: =SUM(C43/C44*100) -> #DIV/0! | E43: =SUM('داده ها'!D90) -> 0 | F43: =SUM(E43/E44*100) -> #DIV/0! | G43: =SUM('داده ها'!E90) -> 0 | H43: =SUM(G43/G44*100) -> #DIV/0! | I43: =SUM('داده ها'!F90) -> 0 | J43: =SUM(I43/I44*100) -> #DIV/0! | K43: =SUM('داده ها'!K89:K90) -> 0 | L43: =SUM(K43/K44*100) -> #DIV/0!
C44: =SUM('داده ها'!C91) -> 0 | E44: =SUM('داده ها'!D91) -> 0 | G44: =SUM('داده ها'!E91) -> 0 | I44: =SUM('داده ها'!F91) -> 0 | K44: =SUM('داده ها'!K87:K88) -> 0
C47: سه ماهه اول | D47: شاخص سه ماهه اول | E47: سه ماهه دوم | F47: شاخص سه ماهه دوم | G47: سه ماهه سوم | H47: شاخص سه ماهه سوم | I47: سه ماهه چهارم | J47: شاخص سه ماهه چهارم | L47: شاخص سالانه
A48: درصد پوشش فصلی مکمل آهن (15 میلی) | C48: =SUM('داده ها'!C96) -> 0 | D48: =SUM(C48/C49*100) -> #DIV/0! | E48: =SUM('داده ها'!D96) -> 0 | F48: =SUM(E48/E49*100) -> #DIV/0! | G48: =SUM('داده ها'!E96) -> 0 | H48: =SUM(G48/G49*100) -> #DIV/0! | I48: =SUM('داده ها'!F96) -> 0 | J48: =SUM(I48/I49*100) -> #DIV/0! | K48: =SUM('داده ها'!K98) -> 0 | L48: =SUM(K48/K49*100) -> #DIV/0!
C49: =SUM('داده ها'!C97*4.5) -> 0 | E49: =SUM('داده ها'!D97*4.5) -> 0 | G49: =SUM(N55+'داده ها'!E97*4.5) -> 0 | I49: =SUM('داده ها'!F97*4.5) -> 0 | K49: {=SUM('داده ها'!K96:K97*18)} -> 0
C52: سه ماهه اول | D52: شاخص سه ماهه اول | E52: سه ماهه دوم | F52: شاخص سه ماهه دوم | G52: سه ماهه سوم | H52: شاخص سه ماهه سوم | I52: سه ماهه چهارم | J52: شاخص سه ماهه چهارم | L52: شاخص سالانه
A53: درصد پوشش فصلی مکمل آد و مولتی ویتامین (15 میلی) | C53: =SUM('داده ها'!C104) -> 0 | D53: =SUM(C53/C54*100) -> #DIV/0! | E53: =SUM('داده ها'!D104) -> 0 | F53: =SUM(E53/E54*100) -> #DIV/0! | G53: =SUM('داده ها'!E104) -> 0 | H53: =SUM(G53/G54*100) -> #DIV/0! | I53: =SUM('داده ها'!F104) -> 0 | J53: =SUM(I53/I54*100) -> #DIV/0! | K53: =SUM('داده ها'!K106) -> 0 | L53: =SUM(K53/K54*100) -> #DIV/0!
C54: =SUM('داده ها'!C105*6) -> 0 | E54: =SUM('داده ها'!D105*6) -> 0 | G54: =SUM('داده ها'!E105*6) -> 0 | I54: =SUM('داده ها'!F105*6) -> 0 | K54: {=SUM('داده ها'!K101:K105*24)} -> 0

Sheet نمودارها
