Workbook

Sheet فرم بررسی تجهیزات برنامه کودکان
A1: نام مرکز: | C1: نام و نام خانوادگی تکمیل کننده: | E1: نام و نام خانوادگی مسئول مرکز:
A2: تجهیزات | B2: مشاهده | E2: توضیحات (شماره درخواست ها و پیگیری ها)
B3: وجوددارد(تعداد)کاملا سالم و مطابق استاندارد | C3: وجود دارد ولی سالم یا مطابق استاندارد نیست(نیاز به تعمیر دارد) | D3: وجود ندارد
A4: تجهیزات کودک سالم
A5: ترازوی کفه ای اطفال
A6: ترازوی کفه ای بزرگسال
A7: قدسنج خوابیده
A8: قدسنج ایستاده
A9: مترنواری برای دور سر
A10: نواراندازه گیری دور بازو(MUAK)
A11: فشارسنج اطفال
A12: چارت بینایی
A13: وزنه شاهد 500 گرم
A14: وزنه شاهد2 کیلو گرم
A15: ترمومتر
... A46: ترالی اورژانس

Sheet ارزیابی مراقب سلامت
C1: نام ونام خانوادگی تکمیل کننده : | E1: نام مرکز/پایگاه: | G1: تاریخ تکمیل :
A2: فرآیند | B2: عنوان | D2: سه ماهه اول | E2: سه ماهه دوم | F2: سه ماهه سوم | G2: سه ماهه چهارم | H2: توضیحات
A3: ریز فرآیند
A4: دستور العملها و مواد آموزشی | B4: 1 | C4: آیا نامه ها و دستورالعمل های ارسالی مربوط به برنامه کودکان را مطالعه و اجرا می نماید ؟
B5: 2 | C5: آیا بایگانی نامه ها و دستورالعمل های ارسالی را در فولدر بر روی صفحه نمایش دارد؟
B6: 3 | C6: آیا از آخرین دستورالعمل تغذیه تکمیلی اطلاع دارد؟
B7: 4 | C7: آیا دستورالعمل نحوه درخواست شیر مصنوعی را می داند و انجام می دهد؟
B8: میانگین | D8: =(D4+D5+D6+D7)/4 -> 0 | E8: =(E4+E5+E6+E7)/4 -> 0 | F8: =(F4+F5+F6+F7)/4 -> 0 | G8: =(G4+G5+G6+G7)/4 -> 0
A9: مدیریت دارویی | B9: 5 | C9: آیا قفسه دارویی با دفتر دارویی و سامانه همخوانی دارد ؟
B10: 6 | C10: آیا اقلام و داروهای بهداشتی موجودو به صورت صحیح نگهداری میشوند ؟
B11: 7 | C11: آیا با نحوه درخواست مکمل ها و داروها آشنایی دارد؟
B12: 8 | C12: آیا زمان و اهمیت و نحوه مصرف مکمل دارویی را میداند و آموزش می دهد؟
D13: =(D9+D10+D11+D12)/4 -> 0 | E13: =(E9+E10+E11+E12)/4 -> 0 | F13: =(F9+F10+F11+F12)/4 -> 0 | G13: =(G9+G10+G11+G12)/4 -> 0
A14: تجهیزات | B14: 9 | C14: آیا فرم ها، مواد آموزشی و تجهیزات لازم برنامه کودکان را دارد؟
B15: 10 | C15: آیا نحوه استاندارد سازی تجهیزات (وزنه ،چارت بینایی و...) رامی داند و انجام می دهد؟
D16: =(D14+D15)/2 -> 0 | E16: =(E14+E15)/2 -> 0 | F16: =(F14+F15)/2 -> 0 | G16: =(G14+G15)/2 -> 0
A17: آگاهی و عملکرد بهورزان/ مراقبین سلامت | B17: 11 | C17: آیا توانایی تعامل با مادرو کودک را دارد؟
B18: 12 | C18: آیا ارزیابی کودک از نظر علایم خطر را به درستی انجام می دهد؟(تنفس،زردی،تب،...)
B19: 13 | C19: آیا اندازه گیری دور سرراطبق دستورالعمل انجام می دهد؟
B20: 14 | C20: آیا اندازه گیری وزن راطبق دستورالعمل انجام می دهد؟
B21: 15 | C21: آیا اندازه گیری قد را طبق دستورالعمل انجام می دهد؟
B22: 16 | C22: آیا نحوه رسم و تفسیر نمودار رشد را می داند؟(تعریف و تفسیر منحنی ها)
B23: 17 | C23: آیا ارزیابی سلامت و شیردهی مادر را به درستی انجام می دهد؟
B24: 18 | C24: آیا ارزیابی و مشاوره تغذیه کودک را به درستی انجام می دهد
B25: 19 | C25: آیا ارزیابی سلامت دهان و دندان را به درستی انجام میدهد؟
B26: 20 | C26: آیا آموزش بهداشت دهان و دندان (آموزش مسواک زدن و مسواک انگشتی) را به درستی انجام می دهد؟
B27: 21 | C27: آیا زمان ارجاع کودکان به دندانپزشک و پزشک و بینایی سنجی را می داند؟
B28: 22 | C28: آیا وارنیش فلوراید را به درستی انجام میدهد؟
B29: 23 | C29: آیا ارزیابی بینایی و شنوایی را به درستی انجام می دهد؟
... B50: 44 | C50: آیا آموزش های گروهی ماهانه جهت گروههای هدف برگزار میگردد ؟ و مستندات در کانال مجازی ارسال میگردد؟
D51: =SUM(D17:D50)/34 -> 0 | E51: =SUM(E17:E50)/34 -> 0 | F51: =SUM(F17:F50)/34 -> 0 | G51: =SUM(G17:G50)/34 -> 0
A52: نحوه تکمیل:این فرم ارزیابی فصلی بوده و برای هر مراقب سلامت توسط مسئول مرکز و مسئول سلامت خانواده با توجه به پایش و نظارت همان فصل تکمیل گردیده ودر فولدر پایش ذخیره و نگهداری گردد.میانگین پایش مراقبین در قالب پایش مرکز حداکثر تا پنجمین روز اولین ماه فصل بعد به معاونت بهداشتی ارسال گردد.نحوه امتیاز دهی نیز بین اعداد صفر تا 4 می باشد 0بسیار ضعیف 1 ضعیف 2متوسط 3 خوب 4عالی

Sheet نمودارها
B1: سه ماهه اول | C1: سه ماهه دوم | D1: سه ماهه سوم | E1: سه ماهه چهارم
A2: دستور العملها و مواد آموزشی | B2: ='ارزیابی مراقب سلامت'!D8 -> 0 | C2: ='ارزیابی مراقب سلامت'!E8 -> 0 | D2: ='ارزیابی مراقب سلامت'!F8 -> 0 | E2: ='ارزیابی مراقب سلامت'!G8 -> 0
A3: مدیریت دارویی | B3: ='ارزیابی مراقب سلامت'!D13 -> 0 | C3: ='ارزیابی مراقب سلامت'!E13 -> 0 | D3: ='ارزیابی مراقب سلامت'!F13 -> 0 | E3: ='ارزیابی مراقب سلامت'!G13 -> 0
A4: تجهیزات | B4: ='ارزیابی مراقب سلامت'!D16 -> 0 | C4: ='ارزیابی مراقب سلامت'!E16 -> 0 | D4: ='ارزیابی مراقب سلامت'!F16 -> 0 | E4: ='ارزیابی مراقب سلامت'!G16 -> 0
A5: آگاهی عملکرد مراقبین سلامت /بهورزان | B5: =SUM('ارزیابی مراقب سلامت'!D51) -> 0 | C5: =SUM('ارزیابی مراقب سلامت'!E51) -> 0 | D5: =SUM('ارزیابی مراقب سلامت'!F51) -> 0 | E5: =SUM('ارزیابی مراقب سلامت'!G51) -> 0
